BEGIN:VCALENDAR
VERSION:2.0
PRODID:SchoolNow
CALSCALE:GREGORIAN
BEGIN:VEVENT
UID:b5fdd7c6-9038-11ed-86fa-0236f6ada86b
DTSTAMP:20230109T161436Z
SUMMARY:Early dismissal for students at 12:30 (staff in-service)
URL;VALUE=URI:https://www.hunterdonprep.org/calendar/3660908/early-dismissa
 l-for-students-at-12-30-staff-in-service
DTSTART:20230324T163000Z
DTEND:20230324T173000Z
END:VEVENT
END:VCALENDAR
