BEGIN:VCALENDAR
VERSION:2.0
PRODID:SchoolNow
CALSCALE:GREGORIAN
BEGIN:VEVENT
UID:a39239ce-9038-11ed-b16e-0236f6ada86b
DTSTAMP:20230109T161405Z
SUMMARY:Spring open house (for parents of current students)
URL;VALUE=URI:https://www.hunterdonprep.org/calendar/3660907/spring-open-ho
 use-for-parents-of-current-students
DTSTART:20230323T230000Z
DTEND:20230324T010000Z
END:VEVENT
END:VCALENDAR
