BEGIN:VCALENDAR
VERSION:2.0
PRODID:SchoolNow
CALSCALE:GREGORIAN
BEGIN:VEVENT
UID:8f31889a-9038-11ed-a663-0236f6ada86b
DTSTAMP:20230109T161331Z
SUMMARY:Young Artist's Showcase opening at Hunterdon Art Museum
URL;VALUE=URI:https://www.hunterdonprep.org/calendar/3660906/young-artists-
 showcase-opening-at-hunterdon-art-museum
DTSTART:20230304T180000Z
DTEND:20230304T190000Z
END:VEVENT
END:VCALENDAR
