BEGIN:VCALENDAR
VERSION:2.0
PRODID:SchoolNow
CALSCALE:GREGORIAN
BEGIN:VEVENT
UID:6afb1f5e-9038-11ed-b30f-0236f6ada86b
DTSTAMP:20230109T161230Z
SUMMARY:2nd marking period ends
URL;VALUE=URI:https://www.hunterdonprep.org/calendar/3660905/2nd-marking-pe
 riod-ends
DTSTART;VALUE=DATE:20230124
DTEND;VALUE=DATE:20230125
END:VEVENT
END:VCALENDAR
