BEGIN:VCALENDAR
VERSION:2.0
PRODID:SchoolNow
CALSCALE:GREGORIAN
BEGIN:VEVENT
UID:5ddedfea-9038-11ed-ad31-0236f6ada86b
DTSTAMP:20230109T161208Z
SUMMARY:School closed for President's weekend (closed 2/17 & 2/20)
URL;VALUE=URI:https://www.hunterdonprep.org/calendar/3660904/school-closed-
 for-presidents-weekend-closed-2-17-2-20
DTSTART;VALUE=DATE:20230217
DTEND;VALUE=DATE:20230221
END:VEVENT
END:VCALENDAR
