BEGIN:VCALENDAR
VERSION:2.0
PRODID:SchoolNow
CALSCALE:GREGORIAN
BEGIN:VEVENT
UID:4302fc2e-9038-11ed-be4e-0236f6ada86b
DTSTAMP:20230109T161123Z
SUMMARY:Snow tubing trip to Shawnee  Mountain (after school)
URL;VALUE=URI:https://www.hunterdonprep.org/calendar/3660903/snow-tubing-tr
 ip-to-shawnee-mountain-after-school
DTSTART:20230202T193000Z
DTEND:20230203T003000Z
END:VEVENT
END:VCALENDAR
