BEGIN:VCALENDAR
VERSION:2.0
PRODID:SchoolNow
CALSCALE:GREGORIAN
BEGIN:VEVENT
UID:887c57a2-9036-11ed-926e-0aa8522cdf63
DTSTAMP:20230109T155901Z
SUMMARY:Parent support group (7-8 PM)
URL;VALUE=URI:https://www.hunterdonprep.org/calendar/3660895/parent-support
 -group-7-8-pm
DTSTART:20230127T000000Z
DTEND:20230127T010000Z
END:VEVENT
END:VCALENDAR
