BEGIN:VCALENDAR
VERSION:2.0
PRODID:SchoolNow
CALSCALE:GREGORIAN
BEGIN:VEVENT
UID:7659e8e6-9036-11ed-93e8-0aa8522cdf63
DTSTAMP:20230109T155830Z
SUMMARY:Parent support group (7-8 PM)
URL;VALUE=URI:https://www.hunterdonprep.org/calendar/3660894/parent-support
 -group-7-8-pm
DTSTART:20230120T000000Z
DTEND:20230120T010000Z
END:VEVENT
END:VCALENDAR
