BEGIN:VCALENDAR
VERSION:2.0
PRODID:SchoolNow
CALSCALE:GREGORIAN
BEGIN:VEVENT
UID:6660d526-9036-11ed-a6c1-0aa8522cdf63
DTSTAMP:20230109T155803Z
SUMMARY:Parent support group (7-8 PM)
URL;VALUE=URI:https://www.hunterdonprep.org/calendar/3660893/parent-support
 -group-7-8-pm
DTSTART:20230113T000000Z
DTEND:20230113T010000Z
END:VEVENT
END:VCALENDAR
