BEGIN:VCALENDAR
VERSION:2.0
PRODID:SchoolNow
CALSCALE:GREGORIAN
BEGIN:VEVENT
UID:dacb1012-9035-11ed-a554-0ad1f6f2717b
DTSTAMP:20230113T140204Z
SUMMARY:Cave Ice Cream Sale
URL;VALUE=URI:https://www.hunterdonprep.org/calendar/3660892/cave-ice-cream
 -sale
DTSTART:20230125T172500Z
DTEND:20230125T182500Z
END:VEVENT
END:VCALENDAR
