BEGIN:VCALENDAR
VERSION:2.0
PRODID:SchoolNow
CALSCALE:GREGORIAN
BEGIN:VEVENT
UID:c9e5942a-9035-11ed-a3a8-0ad1f6f2717b
DTSTAMP:20230109T155341Z
SUMMARY:Dungeons & Dragons pop up event
URL;VALUE=URI:https://www.hunterdonprep.org/calendar/3660891/dungeons-drago
 ns-pop-up-event
DTSTART:20230118T180500Z
DTEND:20230118T192500Z
END:VEVENT
END:VCALENDAR
