BEGIN:VCALENDAR
VERSION:2.0
PRODID:SchoolNow
CALSCALE:GREGORIAN
BEGIN:VEVENT
UID:afb1939c-9035-11ed-a6f1-0ad1f6f2717b
DTSTAMP:20230109T155257Z
SUMMARY:School closed for MLK holiday
URL;VALUE=URI:https://www.hunterdonprep.org/calendar/3660890/school-closed-
 for-mlk-holiday
DTSTART;VALUE=DATE:20230116
DTEND;VALUE=DATE:20230117
END:VEVENT
END:VCALENDAR
