BEGIN:VCALENDAR
VERSION:2.0
PRODID:SchoolNow
CALSCALE:GREGORIAN
BEGIN:VEVENT
UID:a1364cea-9035-11ed-9d4e-0ad1f6f2717b
DTSTAMP:20230109T155233Z
SUMMARY:Early dismissal for students at 12:30 (staff in-service)
URL;VALUE=URI:https://www.hunterdonprep.org/calendar/3660889/early-dismissa
 l-for-students-at-12-30-staff-in-service
DTSTART:20230113T173000Z
DTEND:20230113T183000Z
END:VEVENT
END:VCALENDAR
