BEGIN:VCALENDAR
VERSION:2.0
PRODID:SchoolNow
CALSCALE:GREGORIAN
BEGIN:VEVENT
UID:bb77a86e-4b0d-11ed-8e56-02fbea96a247
DTSTAMP:20221013T154307Z
SUMMARY:Center for Contemporary Art gallery tour
URL;VALUE=URI:https://www.hunterdonprep.org/calendar/3516333/center-for-con
 temporary-art-gallery-tour
DTSTART:20221117T150000Z
DTEND:20221117T190000Z
END:VEVENT
END:VCALENDAR
