BEGIN:VCALENDAR
VERSION:2.0
PRODID:SchoolNow
CALSCALE:GREGORIAN
BEGIN:VEVENT
UID:72c27d74-4b0d-11ed-8e1d-0202f6af942d
DTSTAMP:20221013T154105Z
SUMMARY:After school club (Halloween art/craft)
URL;VALUE=URI:https://www.hunterdonprep.org/calendar/3516331/after-school-c
 lub-halloween-art-craft
DTSTART:20221025T183000Z
DTEND:20221025T203000Z
END:VEVENT
END:VCALENDAR
