BEGIN:VCALENDAR
VERSION:2.0
PRODID:SchoolNow
CALSCALE:GREGORIAN
BEGIN:VEVENT
UID:5f384162-4b0d-11ed-957e-0202f6af942d
DTSTAMP:20221013T154032Z
SUMMARY:After school club (pumpkin decorating)
URL;VALUE=URI:https://www.hunterdonprep.org/calendar/3516330/after-school-c
 lub-pumpkin-decorating
DTSTART:20221018T183000Z
DTEND:20221018T203000Z
END:VEVENT
END:VCALENDAR
