BEGIN:VCALENDAR
VERSION:2.0
PRODID:SchoolNow
CALSCALE:GREGORIAN
BEGIN:VEVENT
UID:36e2c53e-4b0d-11ed-b363-0202f6af942d
DTSTAMP:20221013T153924Z
SUMMARY:Parent support group (virtual 7-8 PM)
URL;VALUE=URI:https://www.hunterdonprep.org/calendar/3516329/parent-support
 -group-virtual-7-8-pm
DTSTART:20221027T230000Z
DTEND:20221028T000000Z
END:VEVENT
END:VCALENDAR
