BEGIN:VCALENDAR
VERSION:2.0
PRODID:SchoolNow
CALSCALE:GREGORIAN
BEGIN:VEVENT
UID:2951f4a8-4b0d-11ed-a05b-0202f6af942d
DTSTAMP:20221013T153901Z
SUMMARY:Parent support group (virtual 7-8 PM)
URL;VALUE=URI:https://www.hunterdonprep.org/calendar/3516328/parent-support
 -group-virtual-7-8-pm
DTSTART:20221020T230000Z
DTEND:20221021T000000Z
END:VEVENT
END:VCALENDAR
