BEGIN:VCALENDAR
VERSION:2.0
PRODID:SchoolNow
CALSCALE:GREGORIAN
BEGIN:VEVENT
UID:17289c6e-4b0d-11ed-b95d-0202f6af942d
DTSTAMP:20221013T153831Z
SUMMARY:Parent support group (virtual 7-8 PM)
URL;VALUE=URI:https://www.hunterdonprep.org/calendar/3516327/parent-support
 -group-virtual-7-8-pm
DTSTART:20221013T230000Z
DTEND:20221014T000000Z
END:VEVENT
END:VCALENDAR
