BEGIN:VCALENDAR
VERSION:2.0
PRODID:SchoolNow
CALSCALE:GREGORIAN
BEGIN:VEVENT
UID:e69ddbe0-4b0c-11ed-a19e-0202f6af942d
DTSTAMP:20221013T153709Z
SUMMARY:Lindberg trial trip (Nest & Hive students)
URL;VALUE=URI:https://www.hunterdonprep.org/calendar/3516326/lindberg-trial
 -trip-nest-hive-students
DTSTART:20221026T130000Z
DTEND:20221026T180000Z
END:VEVENT
END:VCALENDAR
