BEGIN:VCALENDAR
VERSION:2.0
PRODID:SchoolNow
CALSCALE:GREGORIAN
BEGIN:VEVENT
UID:ae3fa9d6-4b0c-11ed-8400-0202f6af942d
DTSTAMP:20221013T153535Z
SUMMARY:Clinton Haunted Mill trip (for students who worked at the mill)
URL;VALUE=URI:https://www.hunterdonprep.org/calendar/3516325/clinton-haunte
 d-mill-trip-for-students-who-worked-at-the-mill
DTSTART:20221021T183000Z
DTEND:20221022T010000Z
END:VEVENT
END:VCALENDAR
