BEGIN:VCALENDAR
VERSION:2.0
PRODID:SchoolNow
CALSCALE:GREGORIAN
BEGIN:VEVENT
UID:8bddc53a-4b0c-11ed-adf2-0202f6af942d
DTSTAMP:20221019T142758Z
SUMMARY:Hive pizza sale ($2.50 per slice)
URL;VALUE=URI:https://www.hunterdonprep.org/calendar/3516324/hive-pizza-sal
 e-2-00-per-slice
DTSTART:20221020T162500Z
DTEND:20221020T172500Z
END:VEVENT
END:VCALENDAR
