BEGIN:VCALENDAR
VERSION:2.0
PRODID:SchoolNow
CALSCALE:GREGORIAN
BEGIN:VEVENT
UID:48be79ec-336b-11ed-a62b-0279eebf3007
DTSTAMP:20220913T135219Z
SUMMARY:Mic & the Message assembly
URL;VALUE=URI:https://www.hunterdonprep.org/calendar/3385748/mic-the-messag
 e-assembly
DTSTART:20221003T170500Z
DTEND:20221003T183000Z
END:VEVENT
END:VCALENDAR
