BEGIN:VCALENDAR
VERSION:2.0
PRODID:SchoolNow
CALSCALE:GREGORIAN
BEGIN:VEVENT
UID:44375bfa-32c6-11ed-82e9-0edbd917d1bd
DTSTAMP:20220912T181104Z
SUMMARY:PSAT testing
URL;VALUE=URI:https://www.hunterdonprep.org/calendar/3380338/psat-testing
DTSTART:20221012T130000Z
DTEND:20221012T160000Z
END:VEVENT
END:VCALENDAR
