BEGIN:VCALENDAR
VERSION:2.0
PRODID:SchoolNow
CALSCALE:GREGORIAN
BEGIN:VEVENT
UID:e28b86b0-1e43-11ed-ad78-0249e1200d4f
DTSTAMP:20220817T154723Z
SUMMARY:ASVAB testing
URL;VALUE=URI:https://www.hunterdonprep.org/calendar/3284956/asvab-testing
DTSTART:20221109T140000Z
DTEND:20221109T170000Z
END:VEVENT
END:VCALENDAR
