BEGIN:VCALENDAR
VERSION:2.0
PRODID:SchoolNow
CALSCALE:GREGORIAN
BEGIN:VEVENT
UID:d166be36-1e43-11ed-8863-0249e1200d4f
DTSTAMP:20220817T154654Z
SUMMARY:1st marking period ends
URL;VALUE=URI:https://www.hunterdonprep.org/calendar/3284955/1st-marking-pe
 riod-ends
DTSTART;VALUE=DATE:20221104
DTEND;VALUE=DATE:20221105
END:VEVENT
END:VCALENDAR
