BEGIN:VCALENDAR
VERSION:2.0
PRODID:SchoolNow
CALSCALE:GREGORIAN
BEGIN:VEVENT
UID:c10ccbf2-1e43-11ed-9bbf-0249e1200d4f
DTSTAMP:20220817T154626Z
SUMMARY:Week of Respect (10/3-10/7)
URL;VALUE=URI:https://www.hunterdonprep.org/calendar/3284954/week-of-respec
 t-10-3-10-7
DTSTART:20221003T130000Z
DTEND:20221007T140000Z
END:VEVENT
END:VCALENDAR
