BEGIN:VCALENDAR
VERSION:2.0
PRODID:SchoolNow
CALSCALE:GREGORIAN
BEGIN:VEVENT
UID:a96128e0-1e43-11ed-9ca2-0249e1200d4f
DTSTAMP:20220817T154547Z
SUMMARY:School closed in observance of Yom Kippur
URL;VALUE=URI:https://www.hunterdonprep.org/calendar/3284953/school-closed-
 in-observance-of-yom-kippur
DTSTART;VALUE=DATE:20221005
DTEND;VALUE=DATE:20221006
END:VEVENT
END:VCALENDAR
