BEGIN:VCALENDAR
VERSION:2.0
PRODID:SchoolNow
CALSCALE:GREGORIAN
BEGIN:VEVENT
UID:bc778e52-e684-11ec-b8ff-0207fb46f80b
DTSTAMP:20220607T171031Z
SUMMARY:Last day of ESY
URL;VALUE=URI:https://www.hunterdonprep.org/calendar/3213501/last-day-of-es
 y
DTSTART:20220815T170700Z
DTEND:20220815T180700Z
END:VEVENT
END:VCALENDAR
