BEGIN:VCALENDAR
VERSION:2.0
PRODID:SchoolNow
CALSCALE:GREGORIAN
BEGIN:VEVENT
UID:9520a8a2-b327-11eb-9c62-0ed269d865d1
DTSTAMP:20210512T134015Z
SUMMARY:Troupe class trip to Rita's
URL;VALUE=URI:https://www.hunterdonprep.org/calendar/2598576/troupe-class-t
 rip-to-ritas
DTSTART:20210519T133000Z
DTEND:20210519T143000Z
END:VEVENT
END:VCALENDAR
