BEGIN:VCALENDAR
VERSION:2.0
PRODID:SchoolNow
CALSCALE:GREGORIAN
BEGIN:VEVENT
UID:9231b18e-a2b2-11eb-81c6-020ff04bdcf3
DTSTAMP:20210421T150220Z
SUMMARY:School closed for 4th of July holiday
URL;VALUE=URI:https://www.hunterdonprep.org/calendar/2583438/school-closed-
 for-4th-of-july-holiday
DTSTART;VALUE=DATE:20210705
DTEND;VALUE=DATE:20210706
END:VEVENT
END:VCALENDAR
