BEGIN:VCALENDAR
VERSION:2.0
PRODID:SchoolNow
CALSCALE:GREGORIAN
BEGIN:VEVENT
UID:443257c8-9ebf-11eb-8be3-0a367ffe3f7d
DTSTAMP:20210416T142308Z
SUMMARY:Earth Day campus activities
URL;VALUE=URI:https://www.hunterdonprep.org/calendar/2580082/earth-day-camp
 us-activities
DTSTART:20210513T050000Z
DTEND:20210513T063000Z
END:VEVENT
END:VCALENDAR
