BEGIN:VCALENDAR
VERSION:2.0
PRODID:SchoolNow
CALSCALE:GREGORIAN
BEGIN:VEVENT
UID:8a3e44f8-90a4-11eb-b01d-02f9126c37c7
DTSTAMP:20210329T153633Z
SUMMARY:School closed for Memorial Day holiday
URL;VALUE=URI:https://www.hunterdonprep.org/calendar/2564390/school-closed-
 for-memorial-day-holiday
DTSTART;VALUE=DATE:20210531
DTEND;VALUE=DATE:20210601
END:VEVENT
END:VCALENDAR
