BEGIN:VCALENDAR
VERSION:2.0
PRODID:SchoolNow
CALSCALE:GREGORIAN
BEGIN:VEVENT
UID:15fec450-90a4-11eb-af37-02f9126c37c7
DTSTAMP:20210329T153318Z
SUMMARY:Eyes of the Wild assembly program
URL;VALUE=URI:https://www.hunterdonprep.org/calendar/2564294/eyes-of-the-wi
 ld-assembly-program
DTSTART:20210514T142500Z
DTEND:20210514T162500Z
END:VEVENT
END:VCALENDAR
