BEGIN:VCALENDAR
VERSION:2.0
PRODID:SchoolNow
CALSCALE:GREGORIAN
BEGIN:VEVENT
UID:f7c5e6e4-90a3-11eb-a73c-02f9126c37c7
DTSTAMP:20210429T141651Z
SUMMARY:Poetry Cafe
URL;VALUE=URI:https://www.hunterdonprep.org/calendar/2564293/poetry-cafe
DTSTART:20210512T170000Z
DTEND:20210512T183000Z
END:VEVENT
END:VCALENDAR
