BEGIN:VCALENDAR
VERSION:2.0
PRODID:SchoolNow
CALSCALE:GREGORIAN
BEGIN:VEVENT
UID:b74cbc78-90a3-11eb-9603-02f9126c37c7
DTSTAMP:20210416T141850Z
SUMMARY:"Back to school" mixer
URL;VALUE=URI:https://www.hunterdonprep.org/calendar/2564292/back-to-school
 -mixer
DTSTART:20210419T170000Z
DTEND:20210419T183000Z
END:VEVENT
END:VCALENDAR
