BEGIN:VCALENDAR
VERSION:2.0
PRODID:SchoolNow
CALSCALE:GREGORIAN
BEGIN:VEVENT
UID:678430ea-90a3-11eb-960d-02f9126c37c7
DTSTAMP:20210329T152825Z
SUMMARY:Sewing service project (2:30-5:00)
URL;VALUE=URI:https://www.hunterdonprep.org/calendar/2564291/sewing-service
 -project-2-30-5-00
DTSTART:20210415T183000Z
DTEND:20210415T210000Z
END:VEVENT
END:VCALENDAR
