BEGIN:VCALENDAR
VERSION:2.0
PRODID:SchoolNow
CALSCALE:GREGORIAN
BEGIN:VEVENT
UID:513360cc-90a3-11eb-8940-02f9126c37c7
DTSTAMP:20210329T152748Z
SUMMARY:Hot pretzel sale
URL;VALUE=URI:https://www.hunterdonprep.org/calendar/2564290/hot-pretzel-sa
 le
DTSTART:20210415T130000Z
DTEND:20210415T170000Z
END:VEVENT
END:VCALENDAR
