BEGIN:VCALENDAR
VERSION:2.0
PRODID:SchoolNow
CALSCALE:GREGORIAN
BEGIN:VEVENT
UID:3acd8466-90a3-11eb-a3d7-02f9126c37c7
DTSTAMP:20210329T152710Z
SUMMARY:Community Service luncheon
URL;VALUE=URI:https://www.hunterdonprep.org/calendar/2564289/community-serv
 ice-luncheon
DTSTART:20210412T170000Z
DTEND:20210412T180000Z
END:VEVENT
END:VCALENDAR
