BEGIN:VCALENDAR
VERSION:2.0
PRODID:SchoolNow
CALSCALE:GREGORIAN
BEGIN:VEVENT
UID:517061b4-81be-11eb-add7-0a073cb36007
DTSTAMP:20210310T163317Z
SUMMARY:After school club (ping pong and other games)
URL;VALUE=URI:https://www.hunterdonprep.org/calendar/2554588/after-school-c
 lub-ping-pong-and-other-games
DTSTART:20210325T183000Z
DTEND:20210325T203000Z
END:VEVENT
END:VCALENDAR
