BEGIN:VCALENDAR
VERSION:2.0
PRODID:SchoolNow
CALSCALE:GREGORIAN
BEGIN:VEVENT
UID:2211a928-81be-11eb-a80f-0a073cb36007
DTSTAMP:20210310T163158Z
SUMMARY:After school club (St. Patrick's Day scavenger hunt)
URL;VALUE=URI:https://www.hunterdonprep.org/calendar/2554586/after-school-c
 lub-st-patricks-day-scavenger-hunt
DTSTART:20210318T183000Z
DTEND:20210318T203000Z
END:VEVENT
END:VCALENDAR
