BEGIN:VCALENDAR
VERSION:2.0
PRODID:SchoolNow
CALSCALE:GREGORIAN
BEGIN:VEVENT
UID:af3f27a4-81bd-11eb-aa85-0a073cb36007
DTSTAMP:20210310T162845Z
SUMMARY:After school club (St. Patrick's Day scavenger hunt)
URL;VALUE=URI:https://www.hunterdonprep.org/calendar/2554583/after-school-c
 lub-st-patricks-day-scavenger-hunt
DTSTART:20210316T183000Z
DTEND:20210316T203000Z
END:VEVENT
END:VCALENDAR
