BEGIN:VCALENDAR
VERSION:2.0
PRODID:SchoolNow
CALSCALE:GREGORIAN
BEGIN:VEVENT
UID:96aab5aa-81bd-11eb-bb29-0a073cb36007
DTSTAMP:20210310T165411Z
SUMMARY:After school club (aromatherapy and relaxation jars)
URL;VALUE=URI:https://www.hunterdonprep.org/calendar/2554582/after-school-c
 lub-aromatherapy-relaxation-jars
DTSTART:20210311T193000Z
DTEND:20210311T213000Z
END:VEVENT
END:VCALENDAR
