BEGIN:VCALENDAR
VERSION:2.0
PRODID:SchoolNow
CALSCALE:GREGORIAN
BEGIN:VEVENT
UID:aa14a542-75e7-11eb-b1ee-027dc992c9dd
DTSTAMP:20210223T145901Z
SUMMARY:Spring recess (April 2-April 9)
URL;VALUE=URI:https://www.hunterdonprep.org/calendar/2545304/spring-recess-
 april-2-april-9
DTSTART;VALUE=DATE:20210402
DTEND;VALUE=DATE:20210410
END:VEVENT
END:VCALENDAR
