BEGIN:VCALENDAR
VERSION:2.0
PRODID:SchoolNow
CALSCALE:GREGORIAN
BEGIN:VEVENT
UID:92353a0e-75e7-11eb-9a2d-027dc992c9dd
DTSTAMP:20210223T145821Z
SUMMARY:4th marking period begins
URL;VALUE=URI:https://www.hunterdonprep.org/calendar/2545303/4th-marking-pe
 riod-begins
DTSTART:20210412T123000Z
DTEND:20210412T133000Z
END:VEVENT
END:VCALENDAR
