BEGIN:VCALENDAR
VERSION:2.0
PRODID:SchoolNow
CALSCALE:GREGORIAN
BEGIN:VEVENT
UID:8199dcfe-75e7-11eb-b4de-027dc992c9dd
DTSTAMP:20210223T145753Z
SUMMARY:Third marking period ends
URL;VALUE=URI:https://www.hunterdonprep.org/calendar/2545302/third-marking-
 period-ends
DTSTART:20210401T123000Z
DTEND:20210401T133000Z
END:VEVENT
END:VCALENDAR
