BEGIN:VCALENDAR
VERSION:2.0
PRODID:SchoolNow
CALSCALE:GREGORIAN
BEGIN:VEVENT
UID:6cae88bc-75e7-11eb-9b8c-027dc992c9dd
DTSTAMP:20210223T145718Z
SUMMARY:Junior and Senior Prom
URL;VALUE=URI:https://www.hunterdonprep.org/calendar/2545301/junior-and-sen
 ior-prom
DTSTART:20210527T220000Z
DTEND:20210528T020000Z
END:VEVENT
END:VCALENDAR
