BEGIN:VCALENDAR
VERSION:2.0
PRODID:SchoolNow
CALSCALE:GREGORIAN
BEGIN:VEVENT
UID:53757b9e-75e7-11eb-9190-027dc992c9dd
DTSTAMP:20210223T145636Z
SUMMARY:Early dismissal for staff in-service
URL;VALUE=URI:https://www.hunterdonprep.org/calendar/2545300/early-dismissa
 l-for-staff-in-service
DTSTART:20210326T163000Z
DTEND:20210326T173000Z
END:VEVENT
END:VCALENDAR
