BEGIN:VCALENDAR
VERSION:2.0
PRODID:SchoolNow
CALSCALE:GREGORIAN
BEGIN:VEVENT
UID:3ca4c33e-75e7-11eb-8bae-027dc992c9dd
DTSTAMP:20210223T145558Z
SUMMARY:Spring Open House (for parents of current students)
URL;VALUE=URI:https://www.hunterdonprep.org/calendar/2545299/spring-open-ho
 use-for-parents-of-current-students
DTSTART:20210325T230000Z
DTEND:20210326T010000Z
END:VEVENT
END:VCALENDAR
