BEGIN:VCALENDAR
VERSION:2.0
PRODID:SchoolNow
CALSCALE:GREGORIAN
BEGIN:VEVENT
UID:c2c213f4-6a25-11eb-9847-0ab11a3d4049
DTSTAMP:20210223T145450Z
SUMMARY:Beach Party (1:00-2:30)
URL;VALUE=URI:https://www.hunterdonprep.org/calendar/2535761/beach-party-1-
 00-2-30
DTSTART:20210308T180000Z
DTEND:20210308T193000Z
END:VEVENT
END:VCALENDAR
